BEGIN:VCALENDAR
VERSION:2.0
PRODID:-//Groupe Français d’Etudes et d’Applications des Polymères - ECPv6.15.20//NONSGML v1.0//EN
CALSCALE:GREGORIAN
METHOD:PUBLISH
X-ORIGINAL-URL:https://www.gfp.asso.fr
X-WR-CALDESC:Évènements pour Groupe Français d’Etudes et d’Applications des Polymères
REFRESH-INTERVAL;VALUE=DURATION:PT1H
X-Robots-Tag:noindex
X-PUBLISHED-TTL:PT1H
BEGIN:VTIMEZONE
TZID:Europe/Helsinki
BEGIN:DAYLIGHT
TZOFFSETFROM:+0200
TZOFFSETTO:+0300
TZNAME:EEST
DTSTART:20210328T010000
END:DAYLIGHT
BEGIN:STANDARD
TZOFFSETFROM:+0300
TZOFFSETTO:+0200
TZNAME:EET
DTSTART:20211031T010000
END:STANDARD
BEGIN:DAYLIGHT
TZOFFSETFROM:+0200
TZOFFSETTO:+0300
TZNAME:EEST
DTSTART:20220327T010000
END:DAYLIGHT
BEGIN:STANDARD
TZOFFSETFROM:+0300
TZOFFSETTO:+0200
TZNAME:EET
DTSTART:20221030T010000
END:STANDARD
BEGIN:DAYLIGHT
TZOFFSETFROM:+0200
TZOFFSETTO:+0300
TZNAME:EEST
DTSTART:20230326T010000
END:DAYLIGHT
BEGIN:STANDARD
TZOFFSETFROM:+0300
TZOFFSETTO:+0200
TZNAME:EET
DTSTART:20231029T010000
END:STANDARD
END:VTIMEZONE
BEGIN:VEVENT
DTSTART;TZID=Europe/Helsinki:20220316T093000
DTEND;TZID=Europe/Helsinki:20220316T123000
DTSTAMP:20260426T051412
CREATED:20211024T081827Z
LAST-MODIFIED:20220216T143726Z
UID:24002-1647423000-1647433800@www.gfp.asso.fr
SUMMARY:Atelier de Prospective du GFP : Nano/Microparticules de polymères – Etat des lieux
DESCRIPTION:La pollution des eaux de mer par les polymères et plus spécifiquement les plastiques est un sujet qui suscite de nombreux articles et commentaires dans l’ensemble des médias : presse\, télévision\, réseaux sociaux\, …\nIl se dit et s’écrit beaucoup de choses sur le sujet\, écrits et dires pour lesquels souvent « faire le buzz » est la motivation première.\nL’objectif de cet atelier est de faire appel à des scientifiques des domaines de l’environnement de la santé et de la toxicologie pour\, à destination des universitaires et industriels des polymères\, faire le point le plus objectif possible de l’état des lieux de l’impact des polymères dans ces domaines.
URL:https://www.gfp.asso.fr/evenement/atelier-de-prospective-du-gfp-nano-microparticules-de-polymeres-etat-des-lieux/
LOCATION:Visioconférence
CATEGORIES:GFP
END:VEVENT
END:VCALENDAR