BEGIN:VCALENDAR
VERSION:2.0
PRODID:-//Groupe Français d’Etudes et d’Applications des Polymères - ECPv6.15.20//NONSGML v1.0//EN
CALSCALE:GREGORIAN
METHOD:PUBLISH
X-ORIGINAL-URL:https://www.gfp.asso.fr
X-WR-CALDESC:Évènements pour Groupe Français d’Etudes et d’Applications des Polymères
REFRESH-INTERVAL;VALUE=DURATION:PT1H
X-Robots-Tag:noindex
X-PUBLISHED-TTL:PT1H
BEGIN:VTIMEZONE
TZID:Europe/Helsinki
BEGIN:DAYLIGHT
TZOFFSETFROM:+0200
TZOFFSETTO:+0300
TZNAME:EEST
DTSTART:20220327T010000
END:DAYLIGHT
BEGIN:STANDARD
TZOFFSETFROM:+0300
TZOFFSETTO:+0200
TZNAME:EET
DTSTART:20221030T010000
END:STANDARD
BEGIN:DAYLIGHT
TZOFFSETFROM:+0200
TZOFFSETTO:+0300
TZNAME:EEST
DTSTART:20230326T010000
END:DAYLIGHT
BEGIN:STANDARD
TZOFFSETFROM:+0300
TZOFFSETTO:+0200
TZNAME:EET
DTSTART:20231029T010000
END:STANDARD
BEGIN:DAYLIGHT
TZOFFSETFROM:+0200
TZOFFSETTO:+0300
TZNAME:EEST
DTSTART:20240331T010000
END:DAYLIGHT
BEGIN:STANDARD
TZOFFSETFROM:+0300
TZOFFSETTO:+0200
TZNAME:EET
DTSTART:20241027T010000
END:STANDARD
END:VTIMEZONE
BEGIN:VEVENT
DTSTART;VALUE=DATE:20230514
DTEND;VALUE=DATE:20230519
DTSTAMP:20260421T143210
CREATED:20220904T084417Z
LAST-MODIFIED:20230205T103041Z
UID:26311-1684022400-1684454399@www.gfp.asso.fr
SUMMARY:EUPOC 2023
DESCRIPTION:The European Polymer Federation (EPF) in collaboration with Italian Association of Macromolecular Science and Technology (AIM) is honored and pleased to announce the organization of EUropean POlymer Conference on “Dynamic Polymer Networks” (EUPOC 2022) to be held Bertinoro (Italy)\, May 14-18\, 2023. \nToday’s plastics are either thermoplastics composed of polymer chains\, recyclable and processable at high throughput yet with poor heat and solvent resistance\, or cross-linked thermosets made of permanent polymer networks with far better thermomechanical properties and solvent resistance yet essentially intractable and non-recyclable once processed. Dynamic polymer networks (DPNs) benefit from dynamic exchangeable or reversible cross-links to ideally combine the best features of thermoplastics during processing and thermosets during service. DPNs bear the promise of the next generation of polymer materials and composites in cutting edge applications\, in line with sustainable development and requisites of the new plastics circular economy. EUPOC 2023 will offer a platform to discuss the main challenges facing this important research field\, bringing together worldwide scientists\, engineers and students working on every aspect of dynamic polymer networks. \nhttps://www.aim.it/eupoc2023 \n 
URL:https://www.gfp.asso.fr/evenement/eupoc2023/
LOCATION:Bertinoro\, Italy
CATEGORIES:Non classé
END:VEVENT
END:VCALENDAR